BEGIN:VCALENDAR
VERSION:2.0
PRODID:-//Wisconsin&#039;s Elkhart Lake - ECPv6.15.20//NONSGML v1.0//EN
CALSCALE:GREGORIAN
METHOD:PUBLISH
X-WR-CALNAME:Wisconsin&#039;s Elkhart Lake
X-ORIGINAL-URL:https://www.elkhartlake.com
X-WR-CALDESC:Events for Wisconsin&#039;s Elkhart Lake
REFRESH-INTERVAL;VALUE=DURATION:PT1H
X-Robots-Tag:noindex
X-PUBLISHED-TTL:PT1H
BEGIN:VTIMEZONE
TZID:America/Chicago
BEGIN:DAYLIGHT
TZOFFSETFROM:-0600
TZOFFSETTO:-0500
TZNAME:CDT
DTSTART:20250309T080000
END:DAYLIGHT
BEGIN:STANDARD
TZOFFSETFROM:-0500
TZOFFSETTO:-0600
TZNAME:CST
DTSTART:20251102T070000
END:STANDARD
BEGIN:DAYLIGHT
TZOFFSETFROM:-0600
TZOFFSETTO:-0500
TZNAME:CDT
DTSTART:20260308T080000
END:DAYLIGHT
BEGIN:STANDARD
TZOFFSETFROM:-0500
TZOFFSETTO:-0600
TZNAME:CST
DTSTART:20261101T070000
END:STANDARD
BEGIN:DAYLIGHT
TZOFFSETFROM:-0600
TZOFFSETTO:-0500
TZNAME:CDT
DTSTART:20270314T080000
END:DAYLIGHT
BEGIN:STANDARD
TZOFFSETFROM:-0500
TZOFFSETTO:-0600
TZNAME:CST
DTSTART:20271107T070000
END:STANDARD
END:VTIMEZONE
BEGIN:VEVENT
DTSTART;TZID=America/Chicago:20260530T193000
DTEND;TZID=America/Chicago:20260530T230000
DTSTAMP:20260419T183806
CREATED:20250710T134420Z
LAST-MODIFIED:20260416T142944Z
UID:10005178-1780169400-1780182000@www.elkhartlake.com
SUMMARY:Siebkens Live Music by Dave Steffen & Friends
DESCRIPTION:Dave Steffen Band is live at Siebkens Resort for Saturday MotoAmerica Superbike Weekend. Blues\, rock and smooth grooves\, the Dave Steffen Band brings their signature sound to Siebkens Resort for an unforgettable night of music. With decades of musical talent and crowd-pleasing energy\, this is a show that keeps the good times rolling long after the checkered flag drops.
URL:https://www.elkhartlake.com/event/siebkens-live-music-by-dave-steffen-friends/
LOCATION:Siebkens Resort\, 284 S Lake Street\, Elkhart Lake\, WI\, 53020\, United States
CATEGORIES:Live Music
ATTACH;FMTTYPE=image/jpeg:https://www.elkhartlake.com/wp-content/uploads/Dave-Steffen-Band-3.avif
END:VEVENT
BEGIN:VEVENT
DTSTART;TZID=America/Chicago:20260603T190000
DTEND;TZID=America/Chicago:20260603T220000
DTSTAMP:20260419T183806
CREATED:20240508T175724Z
LAST-MODIFIED:20260414T204314Z
UID:10004213-1780513200-1780524000@www.elkhartlake.com
SUMMARY:Siebkens Live Music by Lilie Collins
DESCRIPTION:Kick back and enjoy tunes from singer/songwriter Lilie Collins during the Siebkens Summer Concert Series. Catch live music on the Siebkens bandstand outside the Stop-Inn Tavern\, with food and beverages available from Sissy’s Pop-Up Bar & Gelato and the Stop-Inn Tavern. \nNo Carry-Ins allowed. Free\, family & dog friendly outdoor concert. Seating available or bring your favorite lawn chair. In case of inclement weather\, music will move inside the Tavern.
URL:https://www.elkhartlake.com/event/siebkens-live-music-by-lilie-collins/
LOCATION:Siebkens Resort\, 284 S Lake Street\, Elkhart Lake\, WI\, 53020\, United States
CATEGORIES:Live Music
ATTACH;FMTTYPE=image/jpeg:https://www.elkhartlake.com/wp-content/uploads/lilie-collins.avif
END:VEVENT
BEGIN:VEVENT
DTSTART;TZID=America/Chicago:20260610T190000
DTEND;TZID=America/Chicago:20260610T220000
DTSTAMP:20260419T183806
CREATED:20250508T214850Z
LAST-MODIFIED:20260414T205217Z
UID:10004932-1781118000-1781128800@www.elkhartlake.com
SUMMARY:Siebkens Live Music by Chasing Tales
DESCRIPTION:Chasing Tales hits the stage for the Siebkens Summer Concert Series. Enjoy live music on the bandstand\, featuring original jams from Jon Prigge\, Alex Simmons\, Connor Grundman\, and Tony Menzer. Food and beverages available from Sissy’s Pop-Up Bar and the Stop-Inn Tavern. \nNo Carry-Ins allowed. Free\, family & dog friendly outdoor concert. Seating available or bring your favorite lawn chair. In case of inclement weather\, music will move inside the Tavern.
URL:https://www.elkhartlake.com/event/siebkens-live-music-by-chasing-tales/
LOCATION:Siebkens Resort\, 284 S Lake Street\, Elkhart Lake\, WI\, 53020\, United States
CATEGORIES:Live Music
ATTACH;FMTTYPE=image/jpeg:https://www.elkhartlake.com/wp-content/uploads/chasing-tales-1-e1776199926251.avif
END:VEVENT
BEGIN:VEVENT
DTSTART;TZID=America/Chicago:20260617T190000
DTEND;TZID=America/Chicago:20260617T220000
DTSTAMP:20260419T183806
CREATED:20240507T211707Z
LAST-MODIFIED:20260414T205456Z
UID:10003650-1781722800-1781733600@www.elkhartlake.com
SUMMARY:Siebkens Live Music by 7000apart
DESCRIPTION:7000apart returns to Siebkens Summer Concert on Wednesday nights! Live music on the Siebkens bandstand outside of the Stop-Inn Tavern. Food & beverage available from Sissy’s Pop-Up Bar & Gelato and the Stop-Inn Tavern. \nNo Carry-Ins allowed. Free\, family & dog friendly outdoor concert. Seating available or bring your favorite lawn chair. In case of inclement weather\, music will move inside the Tavern.
URL:https://www.elkhartlake.com/event/siebkens-live-music-by-7000apart/
LOCATION:Siebkens Resort\, 284 S Lake Street\, Elkhart Lake\, WI\, 53020\, United States
CATEGORIES:Live Music
ATTACH;FMTTYPE=image/jpeg:https://www.elkhartlake.com/wp-content/uploads/7000apart.avif
END:VEVENT
BEGIN:VEVENT
DTSTART;TZID=America/Chicago:20260618T180000
DTEND;TZID=America/Chicago:20260618T220000
DTSTAMP:20260419T183806
CREATED:20250709T215524Z
LAST-MODIFIED:20260415T133249Z
UID:10005176-1781805600-1781820000@www.elkhartlake.com
SUMMARY:Siebkens Live Music by Wire & Nail
DESCRIPTION:Milwaukee’s #1 honky tonk\, rock and roll band\, Wire & Nail\, hits the stage for IndyCar Weekend. Known for their high-energy sound\, gritty vocals\, and mix of classic country and rock influences\, they bring a show that keeps the crowd going all night. Join us for the Siebkens Summer Concert Series on the bandstand outside the Stop-Inn Tavern\, with food and drinks available from Sissy’s Pop-Up Bar and the Stop-Inn Tavern.
URL:https://www.elkhartlake.com/event/siebkens-live-music-by-wire-nail-2/
LOCATION:Siebkens Resort\, 284 S Lake Street\, Elkhart Lake\, WI\, 53020\, United States
CATEGORIES:Live Music
ATTACH;FMTTYPE=image/jpeg:https://www.elkhartlake.com/wp-content/uploads/wire-and-nail-siebkens.avif
END:VEVENT
BEGIN:VEVENT
DTSTART;TZID=America/Chicago:20260619T190000
DTEND;TZID=America/Chicago:20260619T220000
DTSTAMP:20260419T183806
CREATED:20260415T135603Z
LAST-MODIFIED:20260415T135603Z
UID:10005334-1781895600-1781906400@www.elkhartlake.com
SUMMARY:Siebkens Live Music by Northsoul
DESCRIPTION:Settle in for a summer night at Siebkens with Northsoul. Blending acoustic rock and folk-inspired pop\, this Fond du Lac-based duo features Travis Worth on upright bass and vocals and Trevor Lindgren on mandolin and vocals. Their sound carries a northern soul feel\, creating the perfect atmosphere for live music on the bandstand outside the Stop-Inn Tavern.
URL:https://www.elkhartlake.com/event/siebkens-live-music-by-northsoul/
LOCATION:Siebkens Resort\, 284 S Lake Street\, Elkhart Lake\, WI\, 53020\, United States
CATEGORIES:Live Music
ATTACH;FMTTYPE=image/jpeg:https://www.elkhartlake.com/wp-content/uploads/northsoul-live-music-siebkens.avif
END:VEVENT
BEGIN:VEVENT
DTSTART;TZID=America/Chicago:20260620T190000
DTEND;TZID=America/Chicago:20260620T220000
DTSTAMP:20260419T183806
CREATED:20260415T135923Z
LAST-MODIFIED:20260415T140342Z
UID:10005335-1781982000-1781992800@www.elkhartlake.com
SUMMARY:Siebkens Live Music by The Donna Woodall Group
DESCRIPTION:Milwaukee-based vocalist Donna Woodall brings her signature blend of jazz\, blues\, and pop to the Siebkens Summer Concert Series. Known for her smooth\, expressive vocals and genre-blending style\, Donna delivers a captivating live performance on the bandstand outside the Stop-Inn Tavern.
URL:https://www.elkhartlake.com/event/siebkens-live-music-by-donna-woodall-group/
LOCATION:Siebkens Resort\, 284 S Lake Street\, Elkhart Lake\, WI\, 53020\, United States
CATEGORIES:Live Music
ATTACH;FMTTYPE=image/jpeg:https://www.elkhartlake.com/wp-content/uploads/donna-goodall.avif
END:VEVENT
BEGIN:VEVENT
DTSTART;TZID=America/Chicago:20260624T190000
DTEND;TZID=America/Chicago:20260624T220000
DTSTAMP:20260419T183806
CREATED:20260415T143612Z
LAST-MODIFIED:20260415T143612Z
UID:10005336-1782327600-1782338400@www.elkhartlake.com
SUMMARY:Siebkens Live Music by Ryan Scheidemeyer
DESCRIPTION:Ryan Schiedermayer brings his dynamic drumming and high-energy performance style to the Siebkens Summer Concert Series. A seasoned percussionist who got his start performing for the Milwaukee Bucks’ house band\, Ryan has spent years touring and working with acclaimed artists across the country. Join us for the Siebkens Summer Concert Series and experience a night built on powerful percussion and live music.
URL:https://www.elkhartlake.com/event/siebkens-live-music-by-ryan-scheidemeyer/
LOCATION:Siebkens Resort\, 284 S Lake Street\, Elkhart Lake\, WI\, 53020\, United States
CATEGORIES:Live Music
ATTACH;FMTTYPE=image/jpeg:https://www.elkhartlake.com/wp-content/uploads/ryan-siebkens-live-music.avif
END:VEVENT
BEGIN:VEVENT
DTSTART;TZID=America/Chicago:20260701T190000
DTEND;TZID=America/Chicago:20260701T220000
DTSTAMP:20260419T183806
CREATED:20240508T185238Z
LAST-MODIFIED:20260415T142408Z
UID:10004219-1782932400-1782943200@www.elkhartlake.com
SUMMARY:Siebkens Live Music by The Chili Dogs
DESCRIPTION:Chili Dogs take the stage at Siebkens for a night of rock at the Summer Concert Series. Head to the bandstand outside the Stop-Inn Tavern\, grab a cold drink\, and enjoy an evening of live music at Siebkens Resort.
URL:https://www.elkhartlake.com/event/siebkens-live-music-by-chili-dogs/
LOCATION:Siebkens Resort\, 284 S Lake Street\, Elkhart Lake\, WI\, 53020\, United States
CATEGORIES:Live Music
ATTACH;FMTTYPE=image/jpeg:https://www.elkhartlake.com/wp-content/uploads/the-chili-dogs-siebkens-music.avif
END:VEVENT
BEGIN:VEVENT
DTSTART;TZID=America/Chicago:20260708T190000
DTEND;TZID=America/Chicago:20260708T220000
DTSTAMP:20260419T183806
CREATED:20250508T203849Z
LAST-MODIFIED:20260415T142719Z
UID:10004930-1783537200-1783548000@www.elkhartlake.com
SUMMARY:Siebkens Live Music by Trapper Schoepp
DESCRIPTION:Milwaukee-based singer-songwriter Trapper Schoepp brings his rootsy rock and Americana sound to the Siebkens Summer Concert Series. Known for his storytelling style and dynamic live performances\, he’s shared stages with acts like The Wallflowers and Old 97’s\, delivering songs that blend rock energy with rich\, character-driven lyrics. Catch him live on the bandstand outside the Stop-Inn Tavern for a night of music that’s meant to be shared.
URL:https://www.elkhartlake.com/event/siebkens-live-music-by-trapper-schoepp/
LOCATION:Siebkens Resort\, 284 S Lake Street\, Elkhart Lake\, WI\, 53020\, United States
CATEGORIES:Live Music
ATTACH;FMTTYPE=image/jpeg:https://www.elkhartlake.com/wp-content/uploads/1.-TrapperPromo2025-CreditLucianMcAfee.avif
END:VEVENT
BEGIN:VEVENT
DTSTART;TZID=America/Chicago:20260711T110000
DTEND;TZID=America/Chicago:20260711T230000
DTSTAMP:20260419T183806
CREATED:20240605T131244Z
LAST-MODIFIED:20260417T151518Z
UID:10004245-1783767600-1783810800@www.elkhartlake.com
SUMMARY:Midwest Acoustic Music Festival
DESCRIPTION:Get ready for a day of non-stop acoustic jams at Lake Street Café with the Midwest Acoustic Music Festival! 12 hours\, 12-15 awesome acts from across the Midwest\, plus amazing food\, drinks\, and good vibes all day long. Don’t miss out on the fun. \n \n 
URL:https://www.elkhartlake.com/event/midwest-acoustic-music-festival/
LOCATION:Lake Street Café\, 21 S Lake St\, Elkhart Lake\, Wisconsin\, 53020
CATEGORIES:Live Music
ATTACH;FMTTYPE=image/jpeg:https://www.elkhartlake.com/wp-content/uploads/midwest-acoustic-festival-jpg.webp
END:VEVENT
BEGIN:VEVENT
DTSTART;TZID=America/Chicago:20260715T190000
DTEND;TZID=America/Chicago:20260715T220000
DTSTAMP:20260419T183806
CREATED:20250709T212014Z
LAST-MODIFIED:20260415T151037Z
UID:10005174-1784142000-1784152800@www.elkhartlake.com
SUMMARY:Siebkens Live Music by Erin Krebs & Paul Sucherman
DESCRIPTION:Erin Krebs brings her signature blend of jazz\, blues\, and soul to the Siebkens Summer Concert Series\, joined by acclaimed drummer Paul Sucherman. A Wisconsin-based vocalist known for her rich tone and timeless style\, Erin pairs seamlessly with Paul’s seasoned musicianship for a performance that’s both refined and engaging. \nCatch them live on the bandstand outside the Stop-Inn Tavern for a night of music that sets the tone for a perfect summer evening.
URL:https://www.elkhartlake.com/event/siebkens-live-music-by-erin-krebs-paul-sucherman-2/
LOCATION:Siebkens Resort\, 284 S Lake Street\, Elkhart Lake\, WI\, 53020\, United States
CATEGORIES:Live Music
ATTACH;FMTTYPE=image/jpeg:https://www.elkhartlake.com/wp-content/uploads/erin-krebs.avif
END:VEVENT
BEGIN:VEVENT
DTSTART;TZID=America/Chicago:20260717T190000
DTEND;TZID=America/Chicago:20260717T230000
DTSTAMP:20260419T183806
CREATED:20250709T205849Z
LAST-MODIFIED:20260415T151428Z
UID:10005172-1784314800-1784329200@www.elkhartlake.com
SUMMARY:Siebkens Live Music by Livin The Dream
DESCRIPTION:Livin The Dream takes the stage Friday night at the Siebkens Bandstand during Vintage Weekend. As classic cars line the streets and the energy builds throughout Elkhart Lake\, the band keeps the party going with a high-energy set you won’t want to miss.
URL:https://www.elkhartlake.com/event/siebkens-live-music-by-livin-the-dream/
LOCATION:Siebkens Resort\, 284 S Lake Street\, Elkhart Lake\, WI\, 53020\, United States
CATEGORIES:Live Music
ATTACH;FMTTYPE=image/jpeg:https://www.elkhartlake.com/wp-content/uploads/lviin-the-dream-siebkens-live-music.avif
END:VEVENT
BEGIN:VEVENT
DTSTART;TZID=America/Chicago:20260718T190000
DTEND;TZID=America/Chicago:20260718T230000
DTSTAMP:20260419T183806
CREATED:20260415T152221Z
LAST-MODIFIED:20260415T152221Z
UID:10005337-1784401200-1784415600@www.elkhartlake.com
SUMMARY:Siebkens Live Music by Livin The Dream
DESCRIPTION:Boo! The Band takes the stage Saturday night at the Siebkens Bandstand during Vintage Weekend. Known for their high-energy sets and crowd-pleasing mix of rock\, pop\, and party favorites\, they keep the momentum going as sports cars line the streets and the crowd fills downtown Elkhart Lake.
URL:https://www.elkhartlake.com/event/siebkens-live-music-by-boo-the-band/
LOCATION:Siebkens Resort\, 284 S Lake Street\, Elkhart Lake\, WI\, 53020\, United States
CATEGORIES:Live Music
ATTACH;FMTTYPE=image/jpeg:https://www.elkhartlake.com/wp-content/uploads/Boo-the-bad-jpg-e1692817092548.webp
END:VEVENT
END:VCALENDAR