BEGIN:VCALENDAR
VERSION:2.0
PRODID:-//Wisconsin&#039;s Elkhart Lake - ECPv6.15.20//NONSGML v1.0//EN
CALSCALE:GREGORIAN
METHOD:PUBLISH
X-WR-CALNAME:Wisconsin&#039;s Elkhart Lake
X-ORIGINAL-URL:https://www.elkhartlake.com
X-WR-CALDESC:Events for Wisconsin&#039;s Elkhart Lake
REFRESH-INTERVAL;VALUE=DURATION:PT1H
X-Robots-Tag:noindex
X-PUBLISHED-TTL:PT1H
BEGIN:VTIMEZONE
TZID:America/Chicago
BEGIN:DAYLIGHT
TZOFFSETFROM:-0600
TZOFFSETTO:-0500
TZNAME:CDT
DTSTART:20230312T080000
END:DAYLIGHT
BEGIN:STANDARD
TZOFFSETFROM:-0500
TZOFFSETTO:-0600
TZNAME:CST
DTSTART:20231105T070000
END:STANDARD
BEGIN:DAYLIGHT
TZOFFSETFROM:-0600
TZOFFSETTO:-0500
TZNAME:CDT
DTSTART:20240310T080000
END:DAYLIGHT
BEGIN:STANDARD
TZOFFSETFROM:-0500
TZOFFSETTO:-0600
TZNAME:CST
DTSTART:20241103T070000
END:STANDARD
BEGIN:DAYLIGHT
TZOFFSETFROM:-0600
TZOFFSETTO:-0500
TZNAME:CDT
DTSTART:20250309T080000
END:DAYLIGHT
BEGIN:STANDARD
TZOFFSETFROM:-0500
TZOFFSETTO:-0600
TZNAME:CST
DTSTART:20251102T070000
END:STANDARD
END:VTIMEZONE
BEGIN:VEVENT
DTSTART;TZID=America/Chicago:20241101T190000
DTEND;TZID=America/Chicago:20241101T220000
DTSTAMP:20260424T224450
CREATED:20240924T161324Z
LAST-MODIFIED:20241002T183952Z
UID:10004742-1730487600-1730498400@www.elkhartlake.com
SUMMARY:Wisconsin FearFest at Road America
DESCRIPTION:Prepare yourself for an unforgettable night of thrills and chills at Wisconsin FearFest! This year\, they’re bringing even more terror with 3 new haunted houses that will leave you shaking\, along with 2 mini escape rooms to test your survival instincts. \nLooking for more excitement? Enjoy a variety of pulse-pounding activities\, including the Rage Experience\, axe throwing\, gel ball shooter\, and our paintball shooting gallery. On Saturdays\, rock out to live music while enjoying food and drinks to keep the adrenaline pumping. \nWith free parking and non-stop action\, it’s the perfect place for an evening of fear and fun. Don’t miss out on the ultimate Halloween experience. \nGet Tickets
URL:https://www.elkhartlake.com/event/wisconsin-fear-fest-at-road-america/2024-11-01/
LOCATION:Road America
ATTACH;FMTTYPE=image/jpeg:https://www.elkhartlake.com/wp-content/uploads/fearfest-road-america-jpg-e1727894361386.avif
END:VEVENT
BEGIN:VEVENT
DTSTART;TZID=America/Chicago:20241102T100000
DTEND;TZID=America/Chicago:20241102T233000
DTSTAMP:20260424T224450
CREATED:20241029T142218Z
LAST-MODIFIED:20241029T142218Z
UID:10004805-1730541600-1730590200@www.elkhartlake.com
SUMMARY:American Cancer Society Road America Walk/Run
DESCRIPTION:Join the fight against cancer\, as our community rallies together to honor\, celebrate and remember loved ones and take action for lifesaving change. \nFor more than 45 years\, thousands of Road America Walk/Run participants and volunteers have come together and raised over $5 million to save lives from cancer. This year our goal is to raise $180\,000! Money raised from the Road America Walk/Run help fund local programs and services and fund critical cancer research. The Road America Walk/Run continues to be more than just an event – it’s a movement\, a community of like-minded survivors\, caregivers\, volunteers and running enthusiasts who believe that the future can be free from the pain and suffering caused by cancer. \nThis safe\, family friendly event includes a timed 4 Mile Run\, self timed 4 Mile Walk\, Kids Fun Run and Virtual Walk/Run. Participants are encouraged to join as an individual or form a team with your family\, church\, school\, club or company. \nFor questions\, please contact event staff at plymouthroadamericawalkwi@cancer.org \nSign Up Now
URL:https://www.elkhartlake.com/event/american-cancer-society-road-america-walk-run/
LOCATION:Road America
CATEGORIES:Family Friendly
ATTACH;FMTTYPE=image/jpeg:https://www.elkhartlake.com/wp-content/uploads/road-america-walkrun-cancer-society-jpg.avif
END:VEVENT
BEGIN:VEVENT
DTSTART;TZID=America/Chicago:20241102T190000
DTEND;TZID=America/Chicago:20241102T220000
DTSTAMP:20260424T224450
CREATED:20240924T161324Z
LAST-MODIFIED:20241002T183952Z
UID:10004743-1730574000-1730584800@www.elkhartlake.com
SUMMARY:Wisconsin FearFest at Road America
DESCRIPTION:Prepare yourself for an unforgettable night of thrills and chills at Wisconsin FearFest! This year\, they’re bringing even more terror with 3 new haunted houses that will leave you shaking\, along with 2 mini escape rooms to test your survival instincts. \nLooking for more excitement? Enjoy a variety of pulse-pounding activities\, including the Rage Experience\, axe throwing\, gel ball shooter\, and our paintball shooting gallery. On Saturdays\, rock out to live music while enjoying food and drinks to keep the adrenaline pumping. \nWith free parking and non-stop action\, it’s the perfect place for an evening of fear and fun. Don’t miss out on the ultimate Halloween experience. \nGet Tickets
URL:https://www.elkhartlake.com/event/wisconsin-fear-fest-at-road-america/2024-11-02/
LOCATION:Road America
ATTACH;FMTTYPE=image/jpeg:https://www.elkhartlake.com/wp-content/uploads/fearfest-road-america-jpg-e1727894361386.avif
END:VEVENT
BEGIN:VEVENT
DTSTART;TZID=America/Chicago:20241108T180000
DTEND;TZID=America/Chicago:20241110T103000
DTSTAMP:20260424T224450
CREATED:20240808T163506Z
LAST-MODIFIED:20240808T163656Z
UID:10004718-1731088800-1731234600@www.elkhartlake.com
SUMMARY:Harvest Moon Ball
DESCRIPTION:Join The Osthoff Resort November 8th through the 10th\, for the enchanting Harvest Moon Ball! This annual event promises a weekend of elegance\, romance\, and unforgettable memories. \nWhat’s Included: \n\nLive Music: Dance the night away to the incredible sounds of The Swizzle Sticks\, an offshoot of Thelma Sadoff Center for the Arts House Band\, Lighthouse Big Band.\nExpert Instruction: Enhance your dancing skills with guidance from our esteemed instructor\, Tom Choudoir of Dancesport Madison\, who has been delighting our guests for numerous years.\nChoose our Full Package for an immersive weekend experience or opt for our new Dance-Only Package if you prefer to focus solely on the festivities.\n\n\n\n  \n2024 SCHEDULE OF EVENTS \n\n\n\n\n\nFriday\, November 8\n6 PM–7 PM Reception & Buffet Dinner\n7 PM–11 PM Ballroom Dancing to The Swizzle Sticks \nSaturday\, November 9\n10:15 AM–11:30 AM Dance Workshop – Waltz & Rumba\n12:30 PM–1:45 PM Dance Workshop – Cha-Cha & Tango\n2:00 PM–3:15 PM Dance Workshop – Swing & Review\n6 PM–7 PM Reception & Buffet Dinner\n7 PM–11 PM Ballroom Dancing to – The Swizzle Sticks \nSunday\, November 10\n8:30–10:30 AM Sunday Breakfast Buffet \nMeet The Swizzle Sticks…\nThe “Swizzle Sticks” is a 4-piece group with Paul Thelen on keyboard and vocals\, Ellie Thelen-Clementi on Saxophone and vocals. Rob Milanowski on drums and Phil Schmahl on bass. Paul\, Rob\, and Phil are well known as the rhythm section of the WAMI nominated Lighthouse Big Band. Ellie adds her warm vocals and killer sax playing to the group as well.
URL:https://www.elkhartlake.com/event/harvest-moon-ball/
LOCATION:The Osthoff Resort & Spa\, 101 Osthoff Avenue\, Elkhart Lake\, WI\, 53020\, United States
ATTACH;FMTTYPE=image/jpeg:https://www.elkhartlake.com/wp-content/uploads/39998595_10160791344685300_8246450827384848384_n-3-jpg.avif
END:VEVENT
BEGIN:VEVENT
DTSTART;TZID=America/Chicago:20241130T190000
DTEND;TZID=America/Chicago:20241130T220000
DTSTAMP:20260424T224450
CREATED:20241030T171618Z
LAST-MODIFIED:20251202T220442Z
UID:10004815-1732993200-1733004000@www.elkhartlake.com
SUMMARY:Live Music in The Elk Room: Featuring Brandy Lee
DESCRIPTION:Join us for a relaxing evening of live music with Brandy Lee in The Elk Room at The Osthoff Resort! Grab a drink\, kick back\, and enjoy Brandy’s soothing tunes for the perfect night of good vibes.
URL:https://www.elkhartlake.com/event/live-music-elk-room-brandy-lee/
LOCATION:The Elk Room\, 101 Osthoff Resort\, Elkhart Lake\, WI\, 53020\, United States
ATTACH;FMTTYPE=image/webp:https://www.elkhartlake.com/wp-content/uploads/BradyLee17549-1366x2048-1-e1730308572781.webp
END:VEVENT
END:VCALENDAR