BEGIN:VCALENDAR
VERSION:2.0
PRODID:-//Wisconsin&#039;s Elkhart Lake - ECPv6.15.20//NONSGML v1.0//EN
CALSCALE:GREGORIAN
METHOD:PUBLISH
X-WR-CALNAME:Wisconsin&#039;s Elkhart Lake
X-ORIGINAL-URL:https://www.elkhartlake.com
X-WR-CALDESC:Events for Wisconsin&#039;s Elkhart Lake
REFRESH-INTERVAL;VALUE=DURATION:PT1H
X-Robots-Tag:noindex
X-PUBLISHED-TTL:PT1H
BEGIN:VTIMEZONE
TZID:America/Chicago
BEGIN:DAYLIGHT
TZOFFSETFROM:-0600
TZOFFSETTO:-0500
TZNAME:CDT
DTSTART:20240310T080000
END:DAYLIGHT
BEGIN:STANDARD
TZOFFSETFROM:-0500
TZOFFSETTO:-0600
TZNAME:CST
DTSTART:20241103T070000
END:STANDARD
BEGIN:DAYLIGHT
TZOFFSETFROM:-0600
TZOFFSETTO:-0500
TZNAME:CDT
DTSTART:20250309T080000
END:DAYLIGHT
BEGIN:STANDARD
TZOFFSETFROM:-0500
TZOFFSETTO:-0600
TZNAME:CST
DTSTART:20251102T070000
END:STANDARD
BEGIN:DAYLIGHT
TZOFFSETFROM:-0600
TZOFFSETTO:-0500
TZNAME:CDT
DTSTART:20260308T080000
END:DAYLIGHT
BEGIN:STANDARD
TZOFFSETFROM:-0500
TZOFFSETTO:-0600
TZNAME:CST
DTSTART:20261101T070000
END:STANDARD
END:VTIMEZONE
BEGIN:VEVENT
DTSTART;TZID=America/Chicago:20250820T190000
DTEND;TZID=America/Chicago:20250820T220000
DTSTAMP:20260420T084246
CREATED:20250812T170055Z
LAST-MODIFIED:20251016T161843Z
UID:10005197-1755716400-1755727200@www.elkhartlake.com
SUMMARY:Siebkens Live Music by Katalysst
DESCRIPTION:Siebkens Summer Concert Series continues with Katalysst\, a folk-rock duo known for their lush harmonies and thought-provoking lyrics. Enjoy an evening of soulful melodies and dynamic energy as they take the stage under the August night sky.
URL:https://www.elkhartlake.com/event/siebkens-live-music-by-katalysst/
LOCATION:Siebkens Resort\, 284 S Lake Street\, Elkhart Lake\, WI\, 53020\, United States
CATEGORIES:Live Music
ATTACH;FMTTYPE=image/webp:https://www.elkhartlake.com/wp-content/uploads/katalysst.avif
END:VEVENT
END:VCALENDAR