BEGIN:VCALENDAR
VERSION:2.0
PRODID:-//Wisconsin&#039;s Elkhart Lake - ECPv6.15.20//NONSGML v1.0//EN
CALSCALE:GREGORIAN
METHOD:PUBLISH
X-WR-CALNAME:Wisconsin&#039;s Elkhart Lake
X-ORIGINAL-URL:https://www.elkhartlake.com
X-WR-CALDESC:Events for Wisconsin&#039;s Elkhart Lake
REFRESH-INTERVAL;VALUE=DURATION:PT1H
X-Robots-Tag:noindex
X-PUBLISHED-TTL:PT1H
BEGIN:VTIMEZONE
TZID:America/Chicago
BEGIN:DAYLIGHT
TZOFFSETFROM:-0600
TZOFFSETTO:-0500
TZNAME:CDT
DTSTART:20240310T080000
END:DAYLIGHT
BEGIN:STANDARD
TZOFFSETFROM:-0500
TZOFFSETTO:-0600
TZNAME:CST
DTSTART:20241103T070000
END:STANDARD
BEGIN:DAYLIGHT
TZOFFSETFROM:-0600
TZOFFSETTO:-0500
TZNAME:CDT
DTSTART:20250309T080000
END:DAYLIGHT
BEGIN:STANDARD
TZOFFSETFROM:-0500
TZOFFSETTO:-0600
TZNAME:CST
DTSTART:20251102T070000
END:STANDARD
BEGIN:DAYLIGHT
TZOFFSETFROM:-0600
TZOFFSETTO:-0500
TZNAME:CDT
DTSTART:20260308T080000
END:DAYLIGHT
BEGIN:STANDARD
TZOFFSETFROM:-0500
TZOFFSETTO:-0600
TZNAME:CST
DTSTART:20261101T070000
END:STANDARD
END:VTIMEZONE
BEGIN:VEVENT
DTSTART;TZID=America/Chicago:20251017T190000
DTEND;TZID=America/Chicago:20251017T220000
DTSTAMP:20260420T052826
CREATED:20251008T155353Z
LAST-MODIFIED:20251016T161832Z
UID:10005214-1760727600-1760738400@www.elkhartlake.com
SUMMARY:Live Music at The Elk Room: Featuring Michael Tinker
DESCRIPTION:Join us in the Elk Room at The Osthoff Resort for a delightful performance by Michael Tinker\, a versatile acoustic musician performing a mix of originals\, folk\, rock\, country\, and Celtic favorites from artists like The Beatles\, Bob Dylan\, Johnny Cash\, and The Dubliners.
URL:https://www.elkhartlake.com/event/live-music-at-the-elk-room-featuring-michael-tinker/2025-10-17/
LOCATION:The Elk Room\, 101 Osthoff Resort\, Elkhart Lake\, WI\, 53020\, United States
CATEGORIES:Live Music
ATTACH;FMTTYPE=image/jpeg:https://www.elkhartlake.com/wp-content/uploads/michael-tinker-2-e1759938534572.avif
END:VEVENT
BEGIN:VEVENT
DTSTART;TZID=America/Chicago:20251024T190000
DTEND;TZID=America/Chicago:20251024T220000
DTSTAMP:20260420T052826
CREATED:20260303T193720Z
LAST-MODIFIED:20260303T193721Z
UID:10004808-1761332400-1761343200@www.elkhartlake.com
SUMMARY:Live Music in The Elk Room: Featuring Kyler Kuzio
DESCRIPTION:Settle in for a relaxed night of live music in The Elk Room at The Osthoff Resort with Kyler Kuzio! Grab a drink\, kick back\, and let Kyler’s tunes bring the perfect vibe to your evening.
URL:https://www.elkhartlake.com/event/live-music-elk-room-kyler-kuzio-2/
LOCATION:The Elk Room\, 101 Osthoff Resort\, Elkhart Lake\, WI\, 53020\, United States
CATEGORIES:Live Music
ATTACH;FMTTYPE=image/webp:https://www.elkhartlake.com/wp-content/uploads/kyler.webp
END:VEVENT
END:VCALENDAR