BEGIN:VCALENDAR
VERSION:2.0
PRODID:-//Wisconsin&#039;s Elkhart Lake - ECPv6.15.20//NONSGML v1.0//EN
CALSCALE:GREGORIAN
METHOD:PUBLISH
X-WR-CALNAME:Wisconsin&#039;s Elkhart Lake
X-ORIGINAL-URL:https://www.elkhartlake.com
X-WR-CALDESC:Events for Wisconsin&#039;s Elkhart Lake
REFRESH-INTERVAL;VALUE=DURATION:PT1H
X-Robots-Tag:noindex
X-PUBLISHED-TTL:PT1H
BEGIN:VTIMEZONE
TZID:America/Chicago
BEGIN:DAYLIGHT
TZOFFSETFROM:-0600
TZOFFSETTO:-0500
TZNAME:CDT
DTSTART:20250309T080000
END:DAYLIGHT
BEGIN:STANDARD
TZOFFSETFROM:-0500
TZOFFSETTO:-0600
TZNAME:CST
DTSTART:20251102T070000
END:STANDARD
BEGIN:DAYLIGHT
TZOFFSETFROM:-0600
TZOFFSETTO:-0500
TZNAME:CDT
DTSTART:20260308T080000
END:DAYLIGHT
BEGIN:STANDARD
TZOFFSETFROM:-0500
TZOFFSETTO:-0600
TZNAME:CST
DTSTART:20261101T070000
END:STANDARD
BEGIN:DAYLIGHT
TZOFFSETFROM:-0600
TZOFFSETTO:-0500
TZNAME:CDT
DTSTART:20270314T080000
END:DAYLIGHT
BEGIN:STANDARD
TZOFFSETFROM:-0500
TZOFFSETTO:-0600
TZNAME:CST
DTSTART:20271107T070000
END:STANDARD
END:VTIMEZONE
BEGIN:VEVENT
DTSTART;TZID=America/Chicago:20260109T190000
DTEND;TZID=America/Chicago:20260109T220000
DTSTAMP:20260420T001251
CREATED:20260108T144235Z
LAST-MODIFIED:20260108T144926Z
UID:10005303-1767985200-1767996000@www.elkhartlake.com
SUMMARY:Live Music at The Elk Room: Featuring Austin Skalecki
DESCRIPTION:The Osthoff Resort welcomes Austin Skalecki for a live performance in The Elk Room. Austin Skalecki is a singer-songwriter based in Door County\, Wisconsin. His music embodies lyrical driven songs about the places he’s been and the people he’s met through his travels as a writer. Whether it’s a story of an unknown small town\, a local folk tale lost in time\, or an uplifting outlook on life. His audience is bound to walk away with ambition to find a life story of their own. Live music is free and open to the public.
URL:https://www.elkhartlake.com/event/live-music-at-the-elk-room-featuring-austin-skalecki/
LOCATION:The Elk Room\, 101 Osthoff Resort\, Elkhart Lake\, WI\, 53020\, United States
CATEGORIES:Live Music
ATTACH;FMTTYPE=image/webp:https://www.elkhartlake.com/wp-content/uploads/austin-skalecki.avif
END:VEVENT
BEGIN:VEVENT
DTSTART;TZID=America/Chicago:20260123T190000
DTEND;TZID=America/Chicago:20260123T220000
DTSTAMP:20260420T001251
CREATED:20250317T175957Z
LAST-MODIFIED:20260108T154610Z
UID:10004915-1769194800-1769205600@www.elkhartlake.com
SUMMARY:Live Music in The Elk Room: Featuring Burgundy Ties Duo
DESCRIPTION:Come relax with live music by Burgundy Ties Duo in The Elk Room at The Osthoff Resort! Kick back\, enjoy a drink\, and let this duo’s captivating tunes create the perfect backdrop for a laid-back evening.
URL:https://www.elkhartlake.com/event/live-music-in-the-elk-room-featuring-burgundy-ties-duo/
LOCATION:The Elk Room\, 101 Osthoff Resort\, Elkhart Lake\, WI\, 53020\, United States
CATEGORIES:Live Music
ATTACH;FMTTYPE=image/jpeg:https://www.elkhartlake.com/wp-content/uploads/burgundy-ties-2.avif
END:VEVENT
BEGIN:VEVENT
DTSTART;TZID=America/Chicago:20260124T190000
DTEND;TZID=America/Chicago:20260124T220000
DTSTAMP:20260420T001251
CREATED:20260114T144311Z
LAST-MODIFIED:20260114T144318Z
UID:10005305-1769281200-1769292000@www.elkhartlake.com
SUMMARY:Live Music at The Elk Room: Featuring Phil Norby
DESCRIPTION:Warm up after a day of frosty fun in the Elk Room at The Osthoff Resort. Sip on a cocktail\, unwind\, and enjoy live music from award-winning singer-songwriter Phil Norby. \nWith over 15 years of experience and more than 200 shows annually\, Phil is known for his acoustic guitar and vocal performances. His extensive repertoire includes classics from The Beatles and Billy Joel\, as well as modern hits from Pearl Jam and Matchbox Twenty.
URL:https://www.elkhartlake.com/event/live-music-at-the-elk-room-featuring-phil-norby/
LOCATION:The Elk Room\, 101 Osthoff Resort\, Elkhart Lake\, WI\, 53020\, United States
CATEGORIES:Live Music
ATTACH;FMTTYPE=image/webp:https://www.elkhartlake.com/wp-content/uploads/promo_with_logo.webp
END:VEVENT
END:VCALENDAR