BEGIN:VCALENDAR
VERSION:2.0
PRODID:-//Wisconsin&#039;s Elkhart Lake - ECPv6.15.20//NONSGML v1.0//EN
CALSCALE:GREGORIAN
METHOD:PUBLISH
X-WR-CALNAME:Wisconsin&#039;s Elkhart Lake
X-ORIGINAL-URL:https://www.elkhartlake.com
X-WR-CALDESC:Events for Wisconsin&#039;s Elkhart Lake
REFRESH-INTERVAL;VALUE=DURATION:PT1H
X-Robots-Tag:noindex
X-PUBLISHED-TTL:PT1H
BEGIN:VTIMEZONE
TZID:America/Chicago
BEGIN:DAYLIGHT
TZOFFSETFROM:-0600
TZOFFSETTO:-0500
TZNAME:CDT
DTSTART:20250309T080000
END:DAYLIGHT
BEGIN:STANDARD
TZOFFSETFROM:-0500
TZOFFSETTO:-0600
TZNAME:CST
DTSTART:20251102T070000
END:STANDARD
BEGIN:DAYLIGHT
TZOFFSETFROM:-0600
TZOFFSETTO:-0500
TZNAME:CDT
DTSTART:20260308T080000
END:DAYLIGHT
BEGIN:STANDARD
TZOFFSETFROM:-0500
TZOFFSETTO:-0600
TZNAME:CST
DTSTART:20261101T070000
END:STANDARD
BEGIN:DAYLIGHT
TZOFFSETFROM:-0600
TZOFFSETTO:-0500
TZNAME:CDT
DTSTART:20270314T080000
END:DAYLIGHT
BEGIN:STANDARD
TZOFFSETFROM:-0500
TZOFFSETTO:-0600
TZNAME:CST
DTSTART:20271107T070000
END:STANDARD
END:VTIMEZONE
BEGIN:VEVENT
DTSTART;TZID=America/Chicago:20260206T190000
DTEND;TZID=America/Chicago:20260206T220000
DTSTAMP:20260419T222219
CREATED:20250107T171947Z
LAST-MODIFIED:20260202T164056Z
UID:10004861-1770404400-1770415200@www.elkhartlake.com
SUMMARY:Live Music in The Elk Room: Featuring Jim Ohlschmidt
DESCRIPTION:Come unwind with live music by Jim Ohlschmidt in The Elk Room at The Osthoff Resort! Kick back\, enjoy a drink\, and let Jim’s captivating tunes set the perfect vibe for a relaxing evening out.
URL:https://www.elkhartlake.com/event/live-music-in-the-elk-room-featuring-jim-ohlschmidt/
LOCATION:The Elk Room\, 101 Osthoff Resort\, Elkhart Lake\, WI\, 53020\, United States
CATEGORIES:Live Music
ATTACH;FMTTYPE=image/jpeg:https://www.elkhartlake.com/wp-content/uploads/jim-live-music.avif
END:VEVENT
BEGIN:VEVENT
DTSTART;TZID=America/Chicago:20260207T190000
DTEND;TZID=America/Chicago:20260207T220000
DTSTAMP:20260419T222219
CREATED:20251203T154936Z
LAST-MODIFIED:20260202T164616Z
UID:10004860-1770490800-1770501600@www.elkhartlake.com
SUMMARY:Live Music at The Elk Room: Featuring Gene Gruber
DESCRIPTION:The Osthoff Resort welcomes Gene Gruber for a live performance in The Elk Room. Gene\, a singer/songwriter\, plays crowd-pleasing cover songs from artists like Jim Croce\, The Eagles\, America\, Don McLean\, Dan Fogelberg\, and John Denver. Live music is free and open to the public.
URL:https://www.elkhartlake.com/event/live-music-at-the-elk-room-featuring-gene-gruber-2/
LOCATION:The Elk Room\, 101 Osthoff Resort\, Elkhart Lake\, WI\, 53020\, United States
CATEGORIES:Live Music
ATTACH;FMTTYPE=image/jpeg:https://www.elkhartlake.com/wp-content/uploads/Gene-Gruber-2.avif
END:VEVENT
BEGIN:VEVENT
DTSTART;TZID=America/Chicago:20260214T190000
DTEND;TZID=America/Chicago:20260214T220000
DTSTAMP:20260419T222219
CREATED:20260202T165042Z
LAST-MODIFIED:20260202T165042Z
UID:10005309-1771095600-1771106400@www.elkhartlake.com
SUMMARY:Live Music in The Elk Room: Featuring The Abler Boys
DESCRIPTION:Catch The Abler Boys live in the Elk Room at The Osthoff Resort. This dynamic duo brings great tunes\, expertly crafted drinks\, and an easygoing evening vibe.
URL:https://www.elkhartlake.com/event/live-music-in-the-elk-room-featuring-the-abler-boys/
LOCATION:The Elk Room\, 101 Osthoff Resort\, Elkhart Lake\, WI\, 53020\, United States
CATEGORIES:Live Music
ATTACH;FMTTYPE=image/jpeg:https://www.elkhartlake.com/wp-content/uploads/luke-abler-jpg.avif
END:VEVENT
BEGIN:VEVENT
DTSTART;TZID=America/Chicago:20260221T190000
DTEND;TZID=America/Chicago:20260221T220000
DTSTAMP:20260419T222219
CREATED:20250211T204717Z
LAST-MODIFIED:20260303T193539Z
UID:10004883-1771700400-1771711200@www.elkhartlake.com
SUMMARY:Live Music at The Elk Room: Featuring Michael Grabner
DESCRIPTION:The Osthoff Resort invites you to enjoy a captivating performance by Michael Grabner in The Elk Room. An Appleton\, WI native\, Michael is known for his unique Americana and alt-country sound. \nInfluenced by icons like Neil Young and Bob Dylan\, his engaging lyrics and intricate guitar work have garnered a devoted following. With two albums\, “Restart” and “A Story I Can’t Tell\,” Michael continues to make waves in the Wisconsin music scene. Don’t miss the opportunity to experience his talent live!
URL:https://www.elkhartlake.com/event/live-music-at-the-elk-room-featuring-michael-grabner-2/
LOCATION:The Elk Room\, 101 Osthoff Resort\, Elkhart Lake\, WI\, 53020\, United States
CATEGORIES:Live Music
ATTACH;FMTTYPE=image/jpeg:https://www.elkhartlake.com/wp-content/uploads/michael-grabner-1-jpg.avif
END:VEVENT
END:VCALENDAR