BEGIN:VCALENDAR
VERSION:2.0
PRODID:-//Wisconsin&#039;s Elkhart Lake - ECPv6.15.20//NONSGML v1.0//EN
CALSCALE:GREGORIAN
METHOD:PUBLISH
X-WR-CALNAME:Wisconsin&#039;s Elkhart Lake
X-ORIGINAL-URL:https://www.elkhartlake.com
X-WR-CALDESC:Events for Wisconsin&#039;s Elkhart Lake
REFRESH-INTERVAL;VALUE=DURATION:PT1H
X-Robots-Tag:noindex
X-PUBLISHED-TTL:PT1H
BEGIN:VTIMEZONE
TZID:America/Chicago
BEGIN:DAYLIGHT
TZOFFSETFROM:-0600
TZOFFSETTO:-0500
TZNAME:CDT
DTSTART:20250309T080000
END:DAYLIGHT
BEGIN:STANDARD
TZOFFSETFROM:-0500
TZOFFSETTO:-0600
TZNAME:CST
DTSTART:20251102T070000
END:STANDARD
BEGIN:DAYLIGHT
TZOFFSETFROM:-0600
TZOFFSETTO:-0500
TZNAME:CDT
DTSTART:20260308T080000
END:DAYLIGHT
BEGIN:STANDARD
TZOFFSETFROM:-0500
TZOFFSETTO:-0600
TZNAME:CST
DTSTART:20261101T070000
END:STANDARD
BEGIN:DAYLIGHT
TZOFFSETFROM:-0600
TZOFFSETTO:-0500
TZNAME:CDT
DTSTART:20270314T080000
END:DAYLIGHT
BEGIN:STANDARD
TZOFFSETFROM:-0500
TZOFFSETTO:-0600
TZNAME:CST
DTSTART:20271107T070000
END:STANDARD
END:VTIMEZONE
BEGIN:VEVENT
DTSTART;VALUE=DATE:20260501
DTEND;VALUE=DATE:20260503
DTSTAMP:20260419T202943
CREATED:20220111T225733Z
LAST-MODIFIED:20260303T161854Z
UID:10001920-1777593600-1777766399@www.elkhartlake.com
SUMMARY:Jazz on the Vine 2026
DESCRIPTION:Welcome to Jazz on the Vine\, a spectacular live music celebration taking place May 1 & 2\, 2026 at The Osthoff Resort & Spa. This signature spring event pairs world-class jazz performances with the elegance and comfort of a AAA Four-Diamond resort\, offering an intimate setting where music lovers can enjoy up-close and soulful performances. The weekend lineup features acclaimed artists like Damien Escobar\, Alex Bugnon\, and Marqueal Jordan\, delivering dynamic sets that span contemporary and classic jazz influences. With sophisticated ambiance\, great food and drink available\, and unforgettable melodies\, Jazz on the Vine is the perfect getaway for both longtime jazz aficionados and anyone looking for an exceptional musical experience. \nReserve Your Tickets
URL:https://www.elkhartlake.com/event/jazz-on-the-vine/
LOCATION:The Osthoff Resort & Spa\, 101 Osthoff Avenue\, Elkhart Lake\, WI\, 53020\, United States
CATEGORIES:Live Music
ATTACH;FMTTYPE=image/jpeg:https://www.elkhartlake.com/wp-content/uploads/jazz-on-the-vine-the-osthoff.avif
END:VEVENT
BEGIN:VEVENT
DTSTART;TZID=America/Chicago:20260508T190000
DTEND;TZID=America/Chicago:20260508T220000
DTSTAMP:20260419T202943
CREATED:20260108T145456Z
LAST-MODIFIED:20260414T194600Z
UID:10005304-1778266800-1778277600@www.elkhartlake.com
SUMMARY:Live Music in The Elk Room: Featuring Luke Abler
DESCRIPTION:Luke Abler performs live in the Elk Room at The Osthoff Resort. Enjoy great tunes\, expertly crafted drinks\, and cozy evening vibes.
URL:https://www.elkhartlake.com/event/live-music-in-the-elk-room-featuring-luke-abler/
LOCATION:The Elk Room\, 101 Osthoff Resort\, Elkhart Lake\, WI\, 53020\, United States
CATEGORIES:Live Music
ATTACH;FMTTYPE=image/jpeg:https://www.elkhartlake.com/wp-content/uploads/luke-abler-jpg.avif
END:VEVENT
BEGIN:VEVENT
DTSTART;TZID=America/Chicago:20260509T190000
DTEND;TZID=America/Chicago:20260509T220000
DTSTAMP:20260419T202943
CREATED:20260414T201651Z
LAST-MODIFIED:20260414T201651Z
UID:10005333-1778353200-1778364000@www.elkhartlake.com
SUMMARY:Live Music in The Elk Room: Featuring Mike Droho
DESCRIPTION:Settle in for a relaxed night of live music in The Elk Room at The Osthoff Resort with Mike Droho! Grab a drink\, kick back\, and let Mike’s tunes bring the perfect vibe to your evening.
URL:https://www.elkhartlake.com/event/live-music-in-the-elk-room-featuring-mike-droho/
LOCATION:The Elk Room\, 101 Osthoff Resort\, Elkhart Lake\, WI\, 53020\, United States
CATEGORIES:Live Music
ATTACH;FMTTYPE=image/jpeg:https://www.elkhartlake.com/wp-content/uploads/mike-droho-music.avif
END:VEVENT
BEGIN:VEVENT
DTSTART;TZID=America/Chicago:20260515T190000
DTEND;TZID=America/Chicago:20260515T220000
DTSTAMP:20260419T202943
CREATED:20250317T181313Z
LAST-MODIFIED:20260414T200323Z
UID:10004916-1778871600-1778882400@www.elkhartlake.com
SUMMARY:Live Music in The Elk Room: Featuring Seth James
DESCRIPTION:Come relax with live music by Seth James in The Elk Room at The Osthoff Resort! Kick back\, enjoy a drink\, and let this Seth’s captivating tunes create the perfect backdrop for a laid-back evening.
URL:https://www.elkhartlake.com/event/live-music-in-the-elk-room-featuring-seth-james/
LOCATION:The Elk Room\, 101 Osthoff Resort\, Elkhart Lake\, WI\, 53020\, United States
CATEGORIES:Live Music
ATTACH;FMTTYPE=image/jpeg:https://www.elkhartlake.com/wp-content/uploads/475764414_932643428851390_4560384194493372999_n.avif
END:VEVENT
BEGIN:VEVENT
DTSTART;TZID=America/Chicago:20260516T190000
DTEND;TZID=America/Chicago:20260516T220000
DTSTAMP:20260419T202943
CREATED:20241030T144829Z
LAST-MODIFIED:20260414T200459Z
UID:10004807-1778958000-1778968800@www.elkhartlake.com
SUMMARY:Live Music in The Elk Room: Featuring Mark Croft
DESCRIPTION:Unwind with live music in The Elk Room at The Osthoff Resort\, featuring Mike Crofts. Grab a drink\, find a cozy spot\, and enjoy Mike’s smooth sounds for a perfect\, easygoing night out.
URL:https://www.elkhartlake.com/event/live-music-in-the-elk-room-featuring-mark-croft/
LOCATION:The Elk Room\, 101 Osthoff Resort\, Elkhart Lake\, WI\, 53020\, United States
CATEGORIES:Live Music
ATTACH;FMTTYPE=image/jpeg:https://www.elkhartlake.com/wp-content/uploads/mike-croft-jpg.avif
END:VEVENT
BEGIN:VEVENT
DTSTART;TZID=America/Chicago:20260527T190000
DTEND;TZID=America/Chicago:20260527T220000
DTSTAMP:20260419T202943
CREATED:20240507T211959Z
LAST-MODIFIED:20260414T202015Z
UID:10003651-1779908400-1779919200@www.elkhartlake.com
SUMMARY:Siebkens Live Music by Kylar Kuzio
DESCRIPTION:Kylar Kuzio is kicking off opening night of the Siebkens Summer Concert Series. Enjoy live music on the Siebkens bandstand outside the Stop-Inn Tavern\, with food and drinks available from Sissy’s Pop-Up Bar & Gelato and the Stop-Inn Tavern. \nNo Carry-Ins allowed. Free\, family & dog friendly outdoor concert. Seating available or bring your favorite lawn chair. In case of inclement weather\, music will move inside the Tavern.
URL:https://www.elkhartlake.com/event/siebkens-live-music-by-kylar-kuzio/
LOCATION:Siebkens Resort\, 284 S Lake Street\, Elkhart Lake\, WI\, 53020\, United States
CATEGORIES:Live Music
ATTACH;FMTTYPE=image/jpeg:https://www.elkhartlake.com/wp-content/uploads/kylar-kuzio.avif
END:VEVENT
BEGIN:VEVENT
DTSTART;TZID=America/Chicago:20260529T190000
DTEND;TZID=America/Chicago:20260529T230000
DTSTAMP:20260419T202943
CREATED:20250710T145143Z
LAST-MODIFIED:20260414T202540Z
UID:10005182-1780081200-1780095600@www.elkhartlake.com
SUMMARY:Siebkens Live Music by Jeremiah Jams
DESCRIPTION:Jam out to Jeremiah Jams on Friday night of MotoAmerica Superbike Weekend. After a day of high-speed racing\, keep the energy going with live music on Siebkens’ bandstand. Jeremiah Jams Band brings a high-energy mix of psychedelic rock\, funk\, and soulful jam-band grooves\, perfect for dancing the night away.
URL:https://www.elkhartlake.com/event/siebkens-live-music-by-jeremiah-jams-2/
LOCATION:Siebkens Resort\, 284 S Lake Street\, Elkhart Lake\, WI\, 53020\, United States
CATEGORIES:Live Music
ATTACH;FMTTYPE=image/jpeg:https://www.elkhartlake.com/wp-content/uploads/jermimiah-jams.avif
END:VEVENT
BEGIN:VEVENT
DTSTART;TZID=America/Chicago:20260530T193000
DTEND;TZID=America/Chicago:20260530T230000
DTSTAMP:20260419T202943
CREATED:20250710T134420Z
LAST-MODIFIED:20260416T142944Z
UID:10005178-1780169400-1780182000@www.elkhartlake.com
SUMMARY:Siebkens Live Music by Dave Steffen & Friends
DESCRIPTION:Dave Steffen Band is live at Siebkens Resort for Saturday MotoAmerica Superbike Weekend. Blues\, rock and smooth grooves\, the Dave Steffen Band brings their signature sound to Siebkens Resort for an unforgettable night of music. With decades of musical talent and crowd-pleasing energy\, this is a show that keeps the good times rolling long after the checkered flag drops.
URL:https://www.elkhartlake.com/event/siebkens-live-music-by-dave-steffen-friends/
LOCATION:Siebkens Resort\, 284 S Lake Street\, Elkhart Lake\, WI\, 53020\, United States
CATEGORIES:Live Music
ATTACH;FMTTYPE=image/jpeg:https://www.elkhartlake.com/wp-content/uploads/Dave-Steffen-Band-3.avif
END:VEVENT
END:VCALENDAR